BEGIN:VCALENDAR
VERSION:2.0
PRODID:-//ZContent.net//ZapCalLib 1.0//EN
CALSCALE:GREGORIAN
METHOD:PUBLISH
BEGIN:VEVENT
SUMMARY:Nadciśnienie tętnicze niekontrolowane, często trudne<br />\ntera
 peutycznie, a może już nadciśnienie tętnicze oporne?
DTSTART:20250402T161500
DTEND:20250402T185500
UID:Nadciśnienie tętnicze niekontrolowane, często trudne<br />\nterapeut
 ycznie, a może już nadciśnienie tętnicze oporne?50669_1776721124
DTSTAMP:20260420T213844
Description:
END:VEVENT
END:VCALENDAR
