BEGIN:VCALENDAR
VERSION:2.0
PRODID:-//ZContent.net//ZapCalLib 1.0//EN
CALSCALE:GREGORIAN
METHOD:PUBLISH
BEGIN:VEVENT
SUMMARY:Co mówią zalecenia europejskie?
DTSTART:20250402T160500
DTEND:20250402T181500
UID:Co mówią zalecenia europejskie?50668_1776721123
DTSTAMP:20260420T213843
Description:
END:VEVENT
END:VCALENDAR
