BEGIN:VCALENDAR
VERSION:2.0
PRODID:-//ZContent.net//ZapCalLib 1.0//EN
CALSCALE:GREGORIAN
METHOD:PUBLISH
BEGIN:VEVENT
SUMMARY:Dyskusja
DTSTART:20250319T181000
DTEND:20250319T193000
UID:Dyskusja50439_1776721081
DTSTAMP:20260420T213801
Description:
END:VEVENT
END:VCALENDAR
