BEGIN:VCALENDAR
VERSION:2.0
PRODID:-//ZContent.net//ZapCalLib 1.0//EN
CALSCALE:GREGORIAN
METHOD:PUBLISH
BEGIN:VEVENT
SUMMARY:Leczenie pozahipotensyjne i inwazyjne
DTSTART:20250319T175000
DTEND:20250319T191000
UID:Leczenie pozahipotensyjne i inwazyjne50438_1776721082
DTSTAMP:20260420T213802
Description:
END:VEVENT
END:VCALENDAR
