BEGIN:VCALENDAR
VERSION:2.0
PRODID:-//ZContent.net//ZapCalLib 1.0//EN
CALSCALE:GREGORIAN
METHOD:PUBLISH
BEGIN:VEVENT
SUMMARY:Odrębności leczenia hipotensyjnego
DTSTART:20250319T173000
DTEND:20250319T185000
UID:Odrębności leczenia hipotensyjnego50437_1776721081
DTSTAMP:20260420T213801
Description:
END:VEVENT
END:VCALENDAR
