BEGIN:VCALENDAR
VERSION:2.0
PRODID:-//ZContent.net//ZapCalLib 1.0//EN
CALSCALE:GREGORIAN
METHOD:PUBLISH
BEGIN:VEVENT
SUMMARY:Globalne ryzyko sercowo-naczyniowe w praktyce
DTSTART:20250319T170500
DTEND:20250319T183000
UID:Globalne ryzyko sercowo-naczyniowe w praktyce50436_1776721038
DTSTAMP:20260420T213718
Description:
END:VEVENT
END:VCALENDAR
