BEGIN:VCALENDAR
VERSION:2.0
PRODID:-//ZContent.net//ZapCalLib 1.0//EN
CALSCALE:GREGORIAN
METHOD:PUBLISH
BEGIN:VEVENT
SUMMARY:Dyskusja
DTSTART:20250305T181000
DTEND:20250305T193000
UID:Dyskusja50150_1776721083
DTSTAMP:20260420T213803
Description:
END:VEVENT
END:VCALENDAR
