BEGIN:VCALENDAR
VERSION:2.0
PRODID:-//ZContent.net//ZapCalLib 1.0//EN
CALSCALE:GREGORIAN
METHOD:PUBLISH
BEGIN:VEVENT
SUMMARY:Kontrola najczęstszych czynników ryzyka i wybranych populacji cho
 rych z zespołem metabolicznym.
DTSTART:20250305T175000
DTEND:20250305T191000
UID:Kontrola najczęstszych czynników ryzyka i wybranych populacji chorych
  z zespołem metabolicznym.50149_1776721085
DTSTAMP:20260420T213805
Description:
END:VEVENT
END:VCALENDAR
