BEGIN:VCALENDAR
VERSION:2.0
PRODID:-//ZContent.net//ZapCalLib 1.0//EN
CALSCALE:GREGORIAN
METHOD:PUBLISH
BEGIN:VEVENT
SUMMARY:Algorytm farmakoterapii nadciśnienia tętniczego.
DTSTART:20250305T173000
DTEND:20250305T185000
UID:Algorytm farmakoterapii nadciśnienia tętniczego.50148_1776721083
DTSTAMP:20260420T213803
Description:
END:VEVENT
END:VCALENDAR
