BEGIN:VCALENDAR
VERSION:2.0
PRODID:-//ZContent.net//ZapCalLib 1.0//EN
CALSCALE:GREGORIAN
METHOD:PUBLISH
BEGIN:VEVENT
SUMMARY:Terapia otyłości w chorobach kardiometabolicznych jest kluczowa.
DTSTART:20250305T171000
DTEND:20250305T183000
UID:Terapia otyłości w chorobach kardiometabolicznych jest kluczowa.50147
 _1776721084
DTSTAMP:20260420T213804
Description:
END:VEVENT
END:VCALENDAR
