BEGIN:VCALENDAR
VERSION:2.0
PRODID:-//ZContent.net//ZapCalLib 1.0//EN
CALSCALE:GREGORIAN
METHOD:PUBLISH
BEGIN:VEVENT
SUMMARY:Powitanie
DTSTART:20250305T170000
DTEND:20250305T181000
UID:Powitanie50146_1776721084
DTSTAMP:20260420T213804
Description:
END:VEVENT
END:VCALENDAR
